BEGIN:VCALENDAR
VERSION:2.0
PRODID:-//Institute on Aging - ECPv6.15.20//NONSGML v1.0//EN
CALSCALE:GREGORIAN
METHOD:PUBLISH
X-ORIGINAL-URL:https://www.ioaging.org
X-WR-CALDESC:Events for Institute on Aging
REFRESH-INTERVAL;VALUE=DURATION:PT1H
X-Robots-Tag:noindex
X-PUBLISHED-TTL:PT1H
BEGIN:VTIMEZONE
TZID:UTC
BEGIN:STANDARD
TZOFFSETFROM:+0000
TZOFFSETTO:+0000
TZNAME:UTC
DTSTART:20250101T000000
END:STANDARD
END:VTIMEZONE
BEGIN:VEVENT
DTSTART;TZID=UTC:20260223T090000
DTEND;TZID=UTC:20260223T170000
DTSTAMP:20260421T081903
CREATED:20260210T205729Z
LAST-MODIFIED:20260210T205742Z
UID:10000416-1771837200-1771866000@www.ioaging.org
SUMMARY:Come see us at "Aging and Longevity Summit"
DESCRIPTION:The Aging & Longevity Summit\, hosted by the San Francisco Chronicle\, brings together leading experts\, innovators\, and community voices to explore how we can live longer\, healthier\, and more fulfilling lives. Through engaging panels and conversations\, the summit examines the future of aging—from health and technology to policy\, equity\, and quality of life—spotlighting ideas and solutions shaping longevity in the Bay Area and beyond. \n  \nhttps://marketing.sfgate.com/sf-chronicles-aging-longevity-summit
URL:https://www.ioaging.org/event/come-see-us-at-aging-and-longevity-summit/
LOCATION:InterContinental Downtown\, 888 Howard St\, San Francisco\, 94103\, United States
END:VEVENT
END:VCALENDAR